BEGIN:VCALENDAR
VERSION:2.0
PRODID:-//-=SHW=- Multigaming seit 2000 - ECPv6.15.11//NONSGML v1.0//EN
CALSCALE:GREGORIAN
METHOD:PUBLISH
X-WR-CALNAME:-=SHW=- Multigaming seit 2000
X-ORIGINAL-URL:https://shw-clan.de
X-WR-CALDESC:Veranstaltungen für -=SHW=- Multigaming seit 2000
REFRESH-INTERVAL;VALUE=DURATION:PT1H
X-Robots-Tag:noindex
X-PUBLISHED-TTL:PT1H
BEGIN:VTIMEZONE
TZID:Europe/Berlin
BEGIN:DAYLIGHT
TZOFFSETFROM:+0100
TZOFFSETTO:+0200
TZNAME:CEST
DTSTART:20240331T010000
END:DAYLIGHT
BEGIN:STANDARD
TZOFFSETFROM:+0200
TZOFFSETTO:+0100
TZNAME:CET
DTSTART:20241027T010000
END:STANDARD
BEGIN:DAYLIGHT
TZOFFSETFROM:+0100
TZOFFSETTO:+0200
TZNAME:CEST
DTSTART:20250330T010000
END:DAYLIGHT
BEGIN:STANDARD
TZOFFSETFROM:+0200
TZOFFSETTO:+0100
TZNAME:CET
DTSTART:20251026T010000
END:STANDARD
BEGIN:DAYLIGHT
TZOFFSETFROM:+0100
TZOFFSETTO:+0200
TZNAME:CEST
DTSTART:20260329T010000
END:DAYLIGHT
BEGIN:STANDARD
TZOFFSETFROM:+0200
TZOFFSETTO:+0100
TZNAME:CET
DTSTART:20261025T010000
END:STANDARD
END:VTIMEZONE
BEGIN:VEVENT
DTSTART;TZID=Europe/Berlin:20251003T150000
DTEND;TZID=Europe/Berlin:20251005T120000
DTSTAMP:20260420T172202
CREATED:20250102T154030Z
LAST-MODIFIED:20250129T214530Z
UID:5541-1759503600-1759665600@shw-clan.de
SUMMARY:BieberLAN 49
DESCRIPTION:
URL:https://shw-clan.de/event/bieberlan-49/
LOCATION:Kulturhalle Rödermark\, Dieburger Straße 27\, Rödermark\, Hessen\, 63322\, Germany
CATEGORIES:LAN-Partys
ATTACH;FMTTYPE=image/jpeg:https://shw-clan.de/wp-content/uploads/2022/09/LAN.jpg
END:VEVENT
BEGIN:VEVENT
DTSTART;TZID=Europe/Berlin:20251016T170000
DTEND;TZID=Europe/Berlin:20251019T140000
DTSTAMP:20260420T172202
CREATED:20241006T191607Z
LAST-MODIFIED:20241028T195512Z
UID:5465-1760634000-1760882400@shw-clan.de
SUMMARY:NorthCon 2025
DESCRIPTION:
URL:https://shw-clan.de/event/northcon-2025/
LOCATION:Holstenhallen Neumünster\, Justus-von-Liebig-Straße 2-4\, Neumünster\, Schleswig-Holstein\, 24537\, Germany
CATEGORIES:LAN-Partys
ATTACH;FMTTYPE=image/jpeg:https://shw-clan.de/wp-content/uploads/2022/09/LAN.jpg
END:VEVENT
BEGIN:VEVENT
DTSTART;TZID=Europe/Berlin:20251031T120000
DTEND;TZID=Europe/Berlin:20251102T170000
DTSTAMP:20260420T172202
CREATED:20250823T214834Z
LAST-MODIFIED:20250823T214834Z
UID:5746-1761912000-1762102800@shw-clan.de
SUMMARY:LANSIN 42
DESCRIPTION:
URL:https://shw-clan.de/event/lansin-42/
LOCATION:TSV-Halle Bartholomä\, Im Schopf 35\, Bartholomä\, Baden-Württemberg\, 73566\, Germany
CATEGORIES:LAN-Partys
ATTACH;FMTTYPE=image/jpeg:https://shw-clan.de/wp-content/uploads/2022/09/LAN.jpg
END:VEVENT
END:VCALENDAR