BEGIN:VCALENDAR
VERSION:2.0
PRODID:-//-=SHW=- Multigaming seit 2000 - ECPv6.15.11//NONSGML v1.0//EN
CALSCALE:GREGORIAN
METHOD:PUBLISH
X-WR-CALNAME:-=SHW=- Multigaming seit 2000
X-ORIGINAL-URL:https://shw-clan.de
X-WR-CALDESC:Veranstaltungen für -=SHW=- Multigaming seit 2000
REFRESH-INTERVAL;VALUE=DURATION:PT1H
X-Robots-Tag:noindex
X-PUBLISHED-TTL:PT1H
BEGIN:VTIMEZONE
TZID:Europe/Berlin
BEGIN:DAYLIGHT
TZOFFSETFROM:+0100
TZOFFSETTO:+0200
TZNAME:CEST
DTSTART:20210328T010000
END:DAYLIGHT
BEGIN:STANDARD
TZOFFSETFROM:+0200
TZOFFSETTO:+0100
TZNAME:CET
DTSTART:20211031T010000
END:STANDARD
BEGIN:DAYLIGHT
TZOFFSETFROM:+0100
TZOFFSETTO:+0200
TZNAME:CEST
DTSTART:20220327T010000
END:DAYLIGHT
BEGIN:STANDARD
TZOFFSETFROM:+0200
TZOFFSETTO:+0100
TZNAME:CET
DTSTART:20221030T010000
END:STANDARD
BEGIN:DAYLIGHT
TZOFFSETFROM:+0100
TZOFFSETTO:+0200
TZNAME:CEST
DTSTART:20230326T010000
END:DAYLIGHT
BEGIN:STANDARD
TZOFFSETFROM:+0200
TZOFFSETTO:+0100
TZNAME:CET
DTSTART:20231029T010000
END:STANDARD
END:VTIMEZONE
BEGIN:VEVENT
DTSTART;VALUE=DATE:20220603
DTEND;VALUE=DATE:20220604
DTSTAMP:20260422T234929
CREATED:20210622T213607Z
LAST-MODIFIED:20210628T215104Z
UID:2777-1654214400-1654300799@shw-clan.de
SUMMARY:Herzlichen Glückwunsch -=SHW-Lucky_Strike_No1=-
DESCRIPTION:Alles Gute zum Geburtstag und viel Gesundheit\nwünscht der SHW-Clan
URL:https://shw-clan.de/event/herzlichen-glueckwunsch-shw-lucky_strike_no1/
CATEGORIES:Geburtstag
ATTACH;FMTTYPE=image/jpeg:https://shw-clan.de/wp-content/uploads/2021/06/Geburtstag-1Qdnrp.tmp_.jpg
END:VEVENT
BEGIN:VEVENT
DTSTART;VALUE=DATE:20220607
DTEND;VALUE=DATE:20220608
DTSTAMP:20260422T234929
CREATED:20210628T204329Z
LAST-MODIFIED:20210628T215046Z
UID:2839-1654560000-1654646399@shw-clan.de
SUMMARY:Herzlichen Glückwunsch -=SHW-TatzePaw=-
DESCRIPTION:Der -=SHW-Clan=- wünscht dir für deinen weiteren Lebensweg alles Gute zum Geburtstag.\nDein -=SHW-Clan=-
URL:https://shw-clan.de/event/herzlichen-glueckwunsch-shw-tatzepaw/
CATEGORIES:Geburtstag
ATTACH;FMTTYPE=image/jpeg:https://shw-clan.de/wp-content/uploads/2021/06/Geburtstag-1Qdnrp.tmp_.jpg
END:VEVENT
BEGIN:VEVENT
DTSTART;VALUE=DATE:20220611
DTEND;VALUE=DATE:20220612
DTSTAMP:20260422T234929
CREATED:20210628T204329Z
LAST-MODIFIED:20210628T213554Z
UID:2840-1654905600-1654991999@shw-clan.de
SUMMARY:Herzlichen Glückwunsch -=SHW-Thari
DESCRIPTION:Der -=SHW-Clan=- wünscht dir für deinen weiteren Lebensweg alles Gute zum Geburtstag.\nDein -=SHW-Clan=-
URL:https://shw-clan.de/event/herzlichen-glueckwunsch-shw-thari/
CATEGORIES:Geburtstag
ATTACH;FMTTYPE=image/jpeg:https://shw-clan.de/wp-content/uploads/2021/06/Geburtstag-1Qdnrp.tmp_.jpg
END:VEVENT
BEGIN:VEVENT
DTSTART;VALUE=DATE:20220621
DTEND;VALUE=DATE:20220622
DTSTAMP:20260422T234929
CREATED:20210628T204221Z
LAST-MODIFIED:20210628T213614Z
UID:2837-1655769600-1655855999@shw-clan.de
SUMMARY:Herzlichen Glückwunsch -=SHW-Hegi=-
DESCRIPTION:Der -=SHW-Clan=- wünscht dir für deinen weiteren Lebensweg alles Gute zum Geburtstag.\nDein -=SHW-Clan=-
URL:https://shw-clan.de/event/herzlichen-glueckwunsch-shw-hegi/
CATEGORIES:Geburtstag
ATTACH;FMTTYPE=image/jpeg:https://shw-clan.de/wp-content/uploads/2021/06/Geburtstag-1Qdnrp.tmp_.jpg
END:VEVENT
END:VCALENDAR