BEGIN:VCALENDAR
VERSION:2.0
PRODID:-//-=SHW=- Multigaming seit 2000 - ECPv6.15.11//NONSGML v1.0//EN
CALSCALE:GREGORIAN
METHOD:PUBLISH
X-WR-CALNAME:-=SHW=- Multigaming seit 2000
X-ORIGINAL-URL:https://shw-clan.de
X-WR-CALDESC:Veranstaltungen für -=SHW=- Multigaming seit 2000
REFRESH-INTERVAL;VALUE=DURATION:PT1H
X-Robots-Tag:noindex
X-PUBLISHED-TTL:PT1H
BEGIN:VTIMEZONE
TZID:Europe/Berlin
BEGIN:DAYLIGHT
TZOFFSETFROM:+0100
TZOFFSETTO:+0200
TZNAME:CEST
DTSTART:20210328T010000
END:DAYLIGHT
BEGIN:STANDARD
TZOFFSETFROM:+0200
TZOFFSETTO:+0100
TZNAME:CET
DTSTART:20211031T010000
END:STANDARD
BEGIN:DAYLIGHT
TZOFFSETFROM:+0100
TZOFFSETTO:+0200
TZNAME:CEST
DTSTART:20220327T010000
END:DAYLIGHT
BEGIN:STANDARD
TZOFFSETFROM:+0200
TZOFFSETTO:+0100
TZNAME:CET
DTSTART:20221030T010000
END:STANDARD
BEGIN:DAYLIGHT
TZOFFSETFROM:+0100
TZOFFSETTO:+0200
TZNAME:CEST
DTSTART:20230326T010000
END:DAYLIGHT
BEGIN:STANDARD
TZOFFSETFROM:+0200
TZOFFSETTO:+0100
TZNAME:CET
DTSTART:20231029T010000
END:STANDARD
END:VTIMEZONE
BEGIN:VEVENT
DTSTART;TZID=Europe/Berlin:20220305T000000
DTEND;TZID=Europe/Berlin:20220305T000000
DTSTAMP:20260423T043538
CREATED:20210628T204434Z
LAST-MODIFIED:20210628T212740Z
UID:2847-1646438400-1646438400@shw-clan.de
SUMMARY:Herzlichen Glückwunsch -=SHW-mitgenuss=-
DESCRIPTION:Der -=SHW-Clan=- wünscht dir für deinen weiteren Lebensweg alles Gute zum Geburtstag.\nDein -=SHW-Clan=-
URL:https://shw-clan.de/event/herzlichen-glueckwunsch-shw-mitgenuss/
CATEGORIES:Geburtstag
ATTACH;FMTTYPE=image/jpeg:https://shw-clan.de/wp-content/uploads/2021/06/Geburtstag-1Qdnrp.tmp_.jpg
END:VEVENT
BEGIN:VEVENT
DTSTART;TZID=Europe/Berlin:20220306T000000
DTEND;TZID=Europe/Berlin:20220306T000000
DTSTAMP:20260423T043538
CREATED:20210628T204515Z
LAST-MODIFIED:20210628T212740Z
UID:2848-1646524800-1646524800@shw-clan.de
SUMMARY:Herzlichen Glückwunsch -=SHW-SoRaN_HRo=-
DESCRIPTION:Der -=SHW-Clan=- wünscht dir für deinen weiteren Lebensweg alles Gute zum Geburtstag.\nDein -=SHW-Clan=-
URL:https://shw-clan.de/event/herzlichen-glueckwunsch-shw-soran_hro/
CATEGORIES:Geburtstag
ATTACH;FMTTYPE=image/jpeg:https://shw-clan.de/wp-content/uploads/2021/06/Geburtstag-1Qdnrp.tmp_.jpg
END:VEVENT
BEGIN:VEVENT
DTSTART;TZID=Europe/Berlin:20220321T000000
DTEND;TZID=Europe/Berlin:20220321T000000
DTSTAMP:20260423T043538
CREATED:20210628T204433Z
LAST-MODIFIED:20210628T212740Z
UID:2846-1647820800-1647820800@shw-clan.de
SUMMARY:Herzlichen Glückwunsch -=SHW-KaZuuu=-
DESCRIPTION:Der -=SHW-Clan=- wünscht dir für deinen weiteren Lebensweg alles Gute zum Geburtstag.\nDein -=SHW-Clan=-
URL:https://shw-clan.de/event/herzlichen-glueckwunsch-shw-kazuuu/
CATEGORIES:Geburtstag
ATTACH;FMTTYPE=image/jpeg:https://shw-clan.de/wp-content/uploads/2021/06/Geburtstag-1Qdnrp.tmp_.jpg
END:VEVENT
BEGIN:VEVENT
DTSTART;TZID=Europe/Berlin:20220322T000000
DTEND;TZID=Europe/Berlin:20220322T000000
DTSTAMP:20260423T043538
CREATED:20210622T213605Z
LAST-MODIFIED:20210628T212742Z
UID:2776-1647907200-1647907200@shw-clan.de
SUMMARY:Herzlichen Glückwunsch -=SHW-Kanachi=-
DESCRIPTION:Zum Geburtstag alles Gute und Gesundheit-Der SHW-Clan
URL:https://shw-clan.de/event/herzlichen-glueckwunsch-shw-kanachi/
CATEGORIES:Geburtstag
ATTACH;FMTTYPE=image/jpeg:https://shw-clan.de/wp-content/uploads/2021/06/Geburtstag-1Qdnrp.tmp_.jpg
END:VEVENT
BEGIN:VEVENT
DTSTART;TZID=Europe/Berlin:20220322T000000
DTEND;TZID=Europe/Berlin:20220322T000000
DTSTAMP:20260423T043538
CREATED:20210628T204432Z
LAST-MODIFIED:20210628T212740Z
UID:2845-1647907200-1647907200@shw-clan.de
SUMMARY:Herzlichen Glückwunsch -=SHW-Conan=-
DESCRIPTION:Der -=SHW-Clan=- wünscht dir für deinen weiteren Lebensweg alles Gute zum Geburtstag.\nDein -=SHW-Clan=-
URL:https://shw-clan.de/event/herzlichen-glueckwunsch-shw-conan/
CATEGORIES:Geburtstag
ATTACH;FMTTYPE=image/jpeg:https://shw-clan.de/wp-content/uploads/2021/06/Geburtstag-1Qdnrp.tmp_.jpg
END:VEVENT
BEGIN:VEVENT
DTSTART;TZID=Europe/Berlin:20220327T000000
DTEND;TZID=Europe/Berlin:20220327T000000
DTSTAMP:20260423T043538
CREATED:20210628T204515Z
LAST-MODIFIED:20210629T213831Z
UID:2849-1648339200-1648339200@shw-clan.de
SUMMARY:Herzlichen Glückwunsch -=SHW-Squabak=-
DESCRIPTION:Der -=SHW-Clan=- wünscht dir für deinen weiteren Lebensweg alles Gute zum Geburtstag.\nDein -=SHW-Clan=-
URL:https://shw-clan.de/event/herzlichen-glueckwunsch-shw-squabak/
CATEGORIES:Geburtstag
ATTACH;FMTTYPE=image/jpeg:https://shw-clan.de/wp-content/uploads/2021/06/Geburtstag-1Qdnrp.tmp_.jpg
END:VEVENT
END:VCALENDAR