BEGIN:VCALENDAR
VERSION:2.0
PRODID:-//-=SHW=- Multigaming seit 2000 - ECPv6.15.11//NONSGML v1.0//EN
CALSCALE:GREGORIAN
METHOD:PUBLISH
X-WR-CALNAME:-=SHW=- Multigaming seit 2000
X-ORIGINAL-URL:https://shw-clan.de
X-WR-CALDESC:Veranstaltungen für -=SHW=- Multigaming seit 2000
REFRESH-INTERVAL;VALUE=DURATION:PT1H
X-Robots-Tag:noindex
X-PUBLISHED-TTL:PT1H
BEGIN:VTIMEZONE
TZID:Europe/Berlin
BEGIN:DAYLIGHT
TZOFFSETFROM:+0100
TZOFFSETTO:+0200
TZNAME:CEST
DTSTART:20210328T010000
END:DAYLIGHT
BEGIN:STANDARD
TZOFFSETFROM:+0200
TZOFFSETTO:+0100
TZNAME:CET
DTSTART:20211031T010000
END:STANDARD
BEGIN:DAYLIGHT
TZOFFSETFROM:+0100
TZOFFSETTO:+0200
TZNAME:CEST
DTSTART:20220327T010000
END:DAYLIGHT
BEGIN:STANDARD
TZOFFSETFROM:+0200
TZOFFSETTO:+0100
TZNAME:CET
DTSTART:20221030T010000
END:STANDARD
BEGIN:DAYLIGHT
TZOFFSETFROM:+0100
TZOFFSETTO:+0200
TZNAME:CEST
DTSTART:20230326T010000
END:DAYLIGHT
BEGIN:STANDARD
TZOFFSETFROM:+0200
TZOFFSETTO:+0100
TZNAME:CET
DTSTART:20231029T010000
END:STANDARD
END:VTIMEZONE
BEGIN:VEVENT
DTSTART;TZID=Europe/Berlin:20220208T000000
DTEND;TZID=Europe/Berlin:20220208T000000
DTSTAMP:20260423T060749
CREATED:20210628T204052Z
LAST-MODIFIED:20210628T212742Z
UID:2809-1644278400-1644278400@shw-clan.de
SUMMARY:Herzlichen Glückwunsch -=SHW-Guzzi=-
DESCRIPTION:Wir wünschen dir im Namen des Clans\, alles liebe und Gute zum Geburtstag.Viel Freude an deinem persönlichen Feiertag.
URL:https://shw-clan.de/event/herzlichen-glueckwunsch-shw-guzzi/
CATEGORIES:Geburtstag
ATTACH;FMTTYPE=image/jpeg:https://shw-clan.de/wp-content/uploads/2021/06/Geburtstag-1Qdnrp.tmp_.jpg
END:VEVENT
BEGIN:VEVENT
DTSTART;TZID=Europe/Berlin:20220218T000000
DTEND;TZID=Europe/Berlin:20220218T000000
DTSTAMP:20260423T060749
CREATED:20210628T204053Z
LAST-MODIFIED:20210628T212742Z
UID:2810-1645142400-1645142400@shw-clan.de
SUMMARY:Herzlichen Glückwunsch -=SHW-FlyingPizza=-
DESCRIPTION:Der -=SHW-Clan=- wünscht dir für deinen weiteren Lebensweg alles Gute zum Geburtstag.\nDein -=SHW-Clan=-
URL:https://shw-clan.de/event/herzlichen-glueckwunsch-shw-flyingpizza/
CATEGORIES:Geburtstag
ATTACH;FMTTYPE=image/jpeg:https://shw-clan.de/wp-content/uploads/2021/06/Geburtstag-1Qdnrp.tmp_.jpg
END:VEVENT
BEGIN:VEVENT
DTSTART;TZID=Europe/Berlin:20220218T000000
DTEND;TZID=Europe/Berlin:20220218T000000
DTSTAMP:20260423T060749
CREATED:20210628T204517Z
LAST-MODIFIED:20210628T212739Z
UID:2852-1645142400-1645142400@shw-clan.de
SUMMARY:Herzlichen Glückwunsch -=SHW-Luigi=-
DESCRIPTION:Der -=SHW-Clan=- wünscht dir für deinen weiteren Lebensweg alles Gute zum Geburtstag.\nDein -=SHW-Clan=-
URL:https://shw-clan.de/event/herzlichen-glueckwunsch-shw-luigi/
CATEGORIES:Geburtstag
ATTACH;FMTTYPE=image/jpeg:https://shw-clan.de/wp-content/uploads/2021/06/Geburtstag-1Qdnrp.tmp_.jpg
END:VEVENT
BEGIN:VEVENT
DTSTART;TZID=Europe/Berlin:20220219T000000
DTEND;TZID=Europe/Berlin:20220219T000000
DTSTAMP:20260423T060749
CREATED:20210628T204517Z
LAST-MODIFIED:20210628T212739Z
UID:2851-1645228800-1645228800@shw-clan.de
SUMMARY:Herzlichen Glückwunsch -=SHW-rocketeer=-
DESCRIPTION:Der -=SHW-Clan=- wünscht dir für deinen weiteren Lebensweg alles Gute zum Geburtstag.\nDein -=SHW-Clan=-
URL:https://shw-clan.de/event/herzlichen-glueckwunsch-shw-rocketeer/
CATEGORIES:Geburtstag
ATTACH;FMTTYPE=image/jpeg:https://shw-clan.de/wp-content/uploads/2021/06/Geburtstag-1Qdnrp.tmp_.jpg
END:VEVENT
BEGIN:VEVENT
DTSTART;TZID=Europe/Berlin:20220222T000000
DTEND;TZID=Europe/Berlin:20220222T000000
DTSTAMP:20260423T060749
CREATED:20210628T204716Z
LAST-MODIFIED:20210628T212739Z
UID:2856-1645488000-1645488000@shw-clan.de
SUMMARY:Herzlichen Glückwunsch -=SHW-Brioschka=-
DESCRIPTION:Der -=SHW-Clan=- wünscht dir für deinen weiteren Lebensweg alles Gute zum 46. Geburtstag.\nDein -=SHW-Clan=-
URL:https://shw-clan.de/event/herzlichen-glueckwunsch-shw-brioschka/
CATEGORIES:Geburtstag
ATTACH;FMTTYPE=image/jpeg:https://shw-clan.de/wp-content/uploads/2021/06/Geburtstag-1Qdnrp.tmp_.jpg
END:VEVENT
BEGIN:VEVENT
DTSTART;TZID=Europe/Berlin:20220226T000000
DTEND;TZID=Europe/Berlin:20220226T000000
DTSTAMP:20260423T060749
CREATED:20210628T204516Z
LAST-MODIFIED:20210628T212740Z
UID:2850-1645833600-1645833600@shw-clan.de
SUMMARY:Herzlichen Glückwunsch -=SHW-UnEngel=-
DESCRIPTION:
URL:https://shw-clan.de/event/herzlichen-glueckwunsch-shw-unengel/
CATEGORIES:Geburtstag
ATTACH;FMTTYPE=image/jpeg:https://shw-clan.de/wp-content/uploads/2021/06/Geburtstag-1Qdnrp.tmp_.jpg
END:VEVENT
END:VCALENDAR