BEGIN:VCALENDAR
VERSION:2.0
PRODID:-//-=SHW=- Multigaming seit 2000 - ECPv6.15.11//NONSGML v1.0//EN
CALSCALE:GREGORIAN
METHOD:PUBLISH
X-ORIGINAL-URL:https://shw-clan.de
X-WR-CALDESC:Veranstaltungen für -=SHW=- Multigaming seit 2000
REFRESH-INTERVAL;VALUE=DURATION:PT1H
X-Robots-Tag:noindex
X-PUBLISHED-TTL:PT1H
BEGIN:VTIMEZONE
TZID:Europe/Berlin
BEGIN:DAYLIGHT
TZOFFSETFROM:+0100
TZOFFSETTO:+0200
TZNAME:CEST
DTSTART:20210328T010000
END:DAYLIGHT
BEGIN:STANDARD
TZOFFSETFROM:+0200
TZOFFSETTO:+0100
TZNAME:CET
DTSTART:20211031T010000
END:STANDARD
BEGIN:DAYLIGHT
TZOFFSETFROM:+0100
TZOFFSETTO:+0200
TZNAME:CEST
DTSTART:20220327T010000
END:DAYLIGHT
BEGIN:STANDARD
TZOFFSETFROM:+0200
TZOFFSETTO:+0100
TZNAME:CET
DTSTART:20221030T010000
END:STANDARD
BEGIN:DAYLIGHT
TZOFFSETFROM:+0100
TZOFFSETTO:+0200
TZNAME:CEST
DTSTART:20230326T010000
END:DAYLIGHT
BEGIN:STANDARD
TZOFFSETFROM:+0200
TZOFFSETTO:+0100
TZNAME:CET
DTSTART:20231029T010000
END:STANDARD
END:VTIMEZONE
BEGIN:VEVENT
DTSTART;TZID=Europe/Berlin:20220107T000000
DTEND;TZID=Europe/Berlin:20220107T000000
DTSTAMP:20260423T074042
CREATED:20210628T204715Z
LAST-MODIFIED:20210628T212739Z
UID:2854-1641513600-1641513600@shw-clan.de
SUMMARY:Herzlichen Glückwunsch -=SHW-Darky=-
DESCRIPTION:Der -=SHW-Clan=- wünscht dir für deinen weiteren Lebensweg alles Gute zum Geburtstag.\nDein -=SHW-Clan=-
URL:https://shw-clan.de/event/herzlichen-glueckwunsch-shw-darky/
CATEGORIES:Geburtstag
ATTACH;FMTTYPE=image/jpeg:https://shw-clan.de/wp-content/uploads/2021/06/Geburtstag-1Qdnrp.tmp_.jpg
END:VEVENT
BEGIN:VEVENT
DTSTART;TZID=Europe/Berlin:20220111T000000
DTEND;TZID=Europe/Berlin:20220111T000000
DTSTAMP:20260423T074042
CREATED:20210622T213603Z
LAST-MODIFIED:20210628T212742Z
UID:2773-1641859200-1641859200@shw-clan.de
SUMMARY:Herzlichen Glückwunsch -=SHW-Teufelstier=-
DESCRIPTION:zum Geburtstag alles Gute und Gesundheit\nwünscht der SHW-Clan
URL:https://shw-clan.de/event/herzlichen-glueckwunsch-shw-teufelstier/
CATEGORIES:Geburtstag
ATTACH;FMTTYPE=image/jpeg:https://shw-clan.de/wp-content/uploads/2021/06/Geburtstag-1Qdnrp.tmp_.jpg
END:VEVENT
BEGIN:VEVENT
DTSTART;TZID=Europe/Berlin:20220115T000000
DTEND;TZID=Europe/Berlin:20220115T000000
DTSTAMP:20260423T074042
CREATED:20210628T204718Z
LAST-MODIFIED:20210628T212739Z
UID:2858-1642204800-1642204800@shw-clan.de
SUMMARY:Herzlichen Glückwunsch -=SHW-Tentakel=-
DESCRIPTION:Der -=SHW-Clan=- wünscht dir  alles Gute zu deinem 29. Geburtstag.\nNatürlich auch viel Glück\, Gesundheit und Erfolg für deinen weiteren Lebensweg und weiterhin viel Freude und Spaß beim SHW.\n \nDein -=SHW-Clan=-\n 
URL:https://shw-clan.de/event/herzlichen-glueckwunsch-shw-tentakel/
CATEGORIES:Geburtstag
ATTACH;FMTTYPE=image/jpeg:https://shw-clan.de/wp-content/uploads/2021/06/Geburtstag-1Qdnrp.tmp_.jpg
END:VEVENT
BEGIN:VEVENT
DTSTART;TZID=Europe/Berlin:20220125T000000
DTEND;TZID=Europe/Berlin:20220125T000000
DTSTAMP:20260423T074042
CREATED:20210628T204717Z
LAST-MODIFIED:20210628T212739Z
UID:2857-1643068800-1643068800@shw-clan.de
SUMMARY:Herzlichen Glückwunsch -=SHW-GrandPhil=-
DESCRIPTION:Der -=SHW-Clan=- wünscht dir für deinen weiteren Lebensweg alles Gute zum 23. Geburtstag.\nDein -=SHW-Clan=-
URL:https://shw-clan.de/event/herzlichen-glueckwunsch-shw-grandphil/
CATEGORIES:Geburtstag
ATTACH;FMTTYPE=image/jpeg:https://shw-clan.de/wp-content/uploads/2021/06/Geburtstag-1Qdnrp.tmp_.jpg
END:VEVENT
END:VCALENDAR