BEGIN:VCALENDAR
VERSION:2.0
PRODID:-//-=SHW=- Multigaming seit 2000 - ECPv6.15.11//NONSGML v1.0//EN
CALSCALE:GREGORIAN
METHOD:PUBLISH
X-ORIGINAL-URL:https://shw-clan.de
X-WR-CALDESC:Veranstaltungen für -=SHW=- Multigaming seit 2000
REFRESH-INTERVAL;VALUE=DURATION:PT1H
X-Robots-Tag:noindex
X-PUBLISHED-TTL:PT1H
BEGIN:VTIMEZONE
TZID:Europe/Berlin
BEGIN:DAYLIGHT
TZOFFSETFROM:+0100
TZOFFSETTO:+0200
TZNAME:CEST
DTSTART:20200329T010000
END:DAYLIGHT
BEGIN:STANDARD
TZOFFSETFROM:+0200
TZOFFSETTO:+0100
TZNAME:CET
DTSTART:20201025T010000
END:STANDARD
BEGIN:DAYLIGHT
TZOFFSETFROM:+0100
TZOFFSETTO:+0200
TZNAME:CEST
DTSTART:20210328T010000
END:DAYLIGHT
BEGIN:STANDARD
TZOFFSETFROM:+0200
TZOFFSETTO:+0100
TZNAME:CET
DTSTART:20211031T010000
END:STANDARD
BEGIN:DAYLIGHT
TZOFFSETFROM:+0100
TZOFFSETTO:+0200
TZNAME:CEST
DTSTART:20220327T010000
END:DAYLIGHT
BEGIN:STANDARD
TZOFFSETFROM:+0200
TZOFFSETTO:+0100
TZNAME:CET
DTSTART:20221030T010000
END:STANDARD
END:VTIMEZONE
BEGIN:VEVENT
DTSTART;TZID=Europe/Berlin:20211104T000000
DTEND;TZID=Europe/Berlin:20211104T000000
DTSTAMP:20260423T105127
CREATED:20210622T213604Z
LAST-MODIFIED:20210628T212742Z
UID:2774-1635984000-1635984000@shw-clan.de
SUMMARY:Herzlichen Glückwunsch -=SHW-Pandinus=-
DESCRIPTION:zum Geburtstag alles Gute und Gesundheit\nwünscht der SHW-Clan
URL:https://shw-clan.de/event/herzlichen-glueckwunsch-shw-pandinus/
CATEGORIES:Geburtstag
ATTACH;FMTTYPE=image/jpeg:https://shw-clan.de/wp-content/uploads/2021/06/Geburtstag-1Qdnrp.tmp_.jpg
END:VEVENT
BEGIN:VEVENT
DTSTART;TZID=Europe/Berlin:20211112T000000
DTEND;TZID=Europe/Berlin:20211112T000000
DTSTAMP:20260423T105127
CREATED:20210628T204106Z
LAST-MODIFIED:20210628T204106Z
UID:2813-1636675200-1636675200@shw-clan.de
SUMMARY:In Gedenken an -=SHW-Sockenwombat=-
DESCRIPTION:Heute möchten wir einen der traurigsten Tage der SHW-Geschichte gedenken.\nAm 12.11.2020  erlag unser Clanchef und Clanmitgründer “Socke” seiner Krankheit.\nIn tiefer Trauer gedenken wir -=SHW-Sockenwombat=- und sind im Herzen bei Ihm\, seiner Familie und natürlich -=SHW-Antidote=-\nWir werden immer da sein.\nEuer -=SHW-Clan=-
URL:https://shw-clan.de/event/in-gedenken-an-shw-sockenwombat/
ATTACH;FMTTYPE=image/jpeg:https://shw-clan.de/wp-content/uploads/2021/01/Jimmy-2.jpg
END:VEVENT
BEGIN:VEVENT
DTSTART;TZID=Europe/Berlin:20211114T000000
DTEND;TZID=Europe/Berlin:20211114T000000
DTSTAMP:20260423T105127
CREATED:20210628T204108Z
LAST-MODIFIED:20210628T212741Z
UID:2816-1636848000-1636848000@shw-clan.de
SUMMARY:Herzlichen Glückwunsch -=SHW-Uslar=-
DESCRIPTION:Der -=SHW-Clan=- wünscht dir für deinen weiteren Lebensweg alles Gute zum Geburtstag.\nDein -=SHW-Clan=-
URL:https://shw-clan.de/event/herzlichen-glueckwunsch-shw-uslar/
CATEGORIES:Geburtstag
ATTACH;FMTTYPE=image/jpeg:https://shw-clan.de/wp-content/uploads/2021/06/Geburtstag-1Qdnrp.tmp_.jpg
END:VEVENT
BEGIN:VEVENT
DTSTART;TZID=Europe/Berlin:20211115T000000
DTEND;TZID=Europe/Berlin:20211115T000000
DTSTAMP:20260423T105127
CREATED:20210628T204109Z
LAST-MODIFIED:20210628T212741Z
UID:2817-1636934400-1636934400@shw-clan.de
SUMMARY:Herzlichen Glückwunsch -=SHW-P_999=-
DESCRIPTION:Der -=SHW-Clan=- wünscht dir für deinen weiteren Lebensweg alles Gute zum Geburtstag.\nDein -=SHW-Clan=-
URL:https://shw-clan.de/event/herzlichen-glueckwunsch-shw-p_999/
CATEGORIES:Geburtstag
ATTACH;FMTTYPE=image/jpeg:https://shw-clan.de/wp-content/uploads/2021/06/Geburtstag-1Qdnrp.tmp_.jpg
END:VEVENT
BEGIN:VEVENT
DTSTART;TZID=Europe/Berlin:20211126T000000
DTEND;TZID=Europe/Berlin:20211126T000000
DTSTAMP:20260423T105127
CREATED:20210628T204124Z
LAST-MODIFIED:20210628T212741Z
UID:2818-1637884800-1637884800@shw-clan.de
SUMMARY:Herzlichen Glückwunsch -=SHW-Hardy=-
DESCRIPTION:Der -=SHW-Clan=- wünscht dir für deinen weiteren Lebensweg alles Gute zum Geburtstag.\nDein -=SHW-Clan=-
URL:https://shw-clan.de/event/herzlichen-glueckwunsch-shw-hardy/
CATEGORIES:Geburtstag
ATTACH;FMTTYPE=image/jpeg:https://shw-clan.de/wp-content/uploads/2021/06/Geburtstag-1Qdnrp.tmp_.jpg
END:VEVENT
END:VCALENDAR