BEGIN:VCALENDAR
VERSION:2.0
PRODID:-//-=SHW=- Multigaming seit 2000 - ECPv6.15.11//NONSGML v1.0//EN
CALSCALE:GREGORIAN
METHOD:PUBLISH
X-WR-CALNAME:-=SHW=- Multigaming seit 2000
X-ORIGINAL-URL:https://shw-clan.de
X-WR-CALDESC:Veranstaltungen für -=SHW=- Multigaming seit 2000
REFRESH-INTERVAL;VALUE=DURATION:PT1H
X-Robots-Tag:noindex
X-PUBLISHED-TTL:PT1H
BEGIN:VTIMEZONE
TZID:Europe/Berlin
BEGIN:DAYLIGHT
TZOFFSETFROM:+0100
TZOFFSETTO:+0200
TZNAME:CEST
DTSTART:20200329T010000
END:DAYLIGHT
BEGIN:STANDARD
TZOFFSETFROM:+0200
TZOFFSETTO:+0100
TZNAME:CET
DTSTART:20201025T010000
END:STANDARD
BEGIN:DAYLIGHT
TZOFFSETFROM:+0100
TZOFFSETTO:+0200
TZNAME:CEST
DTSTART:20210328T010000
END:DAYLIGHT
BEGIN:STANDARD
TZOFFSETFROM:+0200
TZOFFSETTO:+0100
TZNAME:CET
DTSTART:20211031T010000
END:STANDARD
BEGIN:DAYLIGHT
TZOFFSETFROM:+0100
TZOFFSETTO:+0200
TZNAME:CEST
DTSTART:20220327T010000
END:DAYLIGHT
BEGIN:STANDARD
TZOFFSETFROM:+0200
TZOFFSETTO:+0100
TZNAME:CET
DTSTART:20221030T010000
END:STANDARD
END:VTIMEZONE
BEGIN:VEVENT
DTSTART;TZID=Europe/Berlin:20211002T000000
DTEND;TZID=Europe/Berlin:20211002T000000
DTSTAMP:20260423T120605
CREATED:20210628T204125Z
LAST-MODIFIED:20210628T212741Z
UID:2820-1633132800-1633132800@shw-clan.de
SUMMARY:Herzlichen Glückwunsch -=SHW-Raptor=-
DESCRIPTION:Der -=SHW-Clan=- wünscht dir für deinen weiteren Lebensweg alles Gute zum Geburtstag.\nDein -=SHW-Clan=-
URL:https://shw-clan.de/event/herzlichen-glueckwunsch-shw-raptor/
CATEGORIES:Geburtstag
ATTACH;FMTTYPE=image/jpeg:https://shw-clan.de/wp-content/uploads/2021/06/Geburtstag-1Qdnrp.tmp_.jpg
END:VEVENT
BEGIN:VEVENT
DTSTART;TZID=Europe/Berlin:20211005T000000
DTEND;TZID=Europe/Berlin:20211005T000000
DTSTAMP:20260423T120605
CREATED:20210628T204126Z
LAST-MODIFIED:20210628T212741Z
UID:2822-1633392000-1633392000@shw-clan.de
SUMMARY:Herzlichen Glückwunsch -=SHW-Skiller=- & -=SHW-Noesi=-
DESCRIPTION:Der -=SHW-Clan=- wünscht euch für euren weiteren Lebensweg alles Gute zum Geburtstag.\nEuer -=SHW-Clan=-
URL:https://shw-clan.de/event/herzlichen-glueckwunsch-shw-skiller-shw-noesi/
CATEGORIES:Geburtstag
ATTACH;FMTTYPE=image/jpeg:https://shw-clan.de/wp-content/uploads/2021/06/Geburtstag-1Qdnrp.tmp_.jpg
END:VEVENT
BEGIN:VEVENT
DTSTART;VALUE=DATE:20211008
DTEND;VALUE=DATE:20211009
DTSTAMP:20260423T120605
CREATED:20210628T204124Z
LAST-MODIFIED:20241229T205721Z
UID:2819-1633651200-1633737599@shw-clan.de
SUMMARY:Herzlichen Glückwunsch -=SHW-FotziBaer=-
DESCRIPTION:Der -=SHW-Clan=- wünscht dir für deinen weiteren Lebensweg alles Gute zum Geburtstag.\nDein -=SHW-Clan=-
URL:https://shw-clan.de/event/herzlichen-glueckwunsch-shw-fotzibaer/
CATEGORIES:Geburtstag
ATTACH;FMTTYPE=image/jpeg:https://shw-clan.de/wp-content/uploads/2021/06/Geburtstag-1Qdnrp.tmp_.jpg
END:VEVENT
BEGIN:VEVENT
DTSTART;TZID=Europe/Berlin:20211025T000000
DTEND;TZID=Europe/Berlin:20211025T000000
DTSTAMP:20260423T120605
CREATED:20210628T204139Z
LAST-MODIFIED:20210628T212741Z
UID:2823-1635120000-1635120000@shw-clan.de
SUMMARY:Herzlichen Glückwunsch -=SHW-Toxic=-
DESCRIPTION:Der -=SHW-Clan=- wünscht dir für deinen weiteren Lebensweg alles Gute zum Geburtstag.\nDein -=SHW-Clan=-
URL:https://shw-clan.de/event/herzlichen-glueckwunsch-shw-toxic/
CATEGORIES:Geburtstag
ATTACH;FMTTYPE=image/jpeg:https://shw-clan.de/wp-content/uploads/2021/06/Geburtstag-1Qdnrp.tmp_.jpg
END:VEVENT
BEGIN:VEVENT
DTSTART;TZID=Europe/Berlin:20211027T000000
DTEND;TZID=Europe/Berlin:20211027T000000
DTSTAMP:20260423T120605
CREATED:20210628T204140Z
LAST-MODIFIED:20210628T212741Z
UID:2824-1635292800-1635292800@shw-clan.de
SUMMARY:Herzlichen Glückwunsch -=SHW-Vivil=-
DESCRIPTION:Der -=SHW-Clan=- wünscht dir für deinen weiteren Lebensweg alles Gute zum Geburtstag.\nDein -=SHW-Clan=-
URL:https://shw-clan.de/event/herzlichen-glueckwunsch-shw-vivil/
CATEGORIES:Geburtstag
ATTACH;FMTTYPE=image/jpeg:https://shw-clan.de/wp-content/uploads/2021/06/Geburtstag-1Qdnrp.tmp_.jpg
END:VEVENT
END:VCALENDAR