BEGIN:VCALENDAR
VERSION:2.0
PRODID:-//-=SHW=- Multigaming seit 2000 - ECPv6.15.11//NONSGML v1.0//EN
CALSCALE:GREGORIAN
METHOD:PUBLISH
X-ORIGINAL-URL:https://shw-clan.de
X-WR-CALDESC:Veranstaltungen für -=SHW=- Multigaming seit 2000
REFRESH-INTERVAL;VALUE=DURATION:PT1H
X-Robots-Tag:noindex
X-PUBLISHED-TTL:PT1H
BEGIN:VTIMEZONE
TZID:Europe/Berlin
BEGIN:DAYLIGHT
TZOFFSETFROM:+0100
TZOFFSETTO:+0200
TZNAME:CEST
DTSTART:20200329T010000
END:DAYLIGHT
BEGIN:STANDARD
TZOFFSETFROM:+0200
TZOFFSETTO:+0100
TZNAME:CET
DTSTART:20201025T010000
END:STANDARD
BEGIN:DAYLIGHT
TZOFFSETFROM:+0100
TZOFFSETTO:+0200
TZNAME:CEST
DTSTART:20210328T010000
END:DAYLIGHT
BEGIN:STANDARD
TZOFFSETFROM:+0200
TZOFFSETTO:+0100
TZNAME:CET
DTSTART:20211031T010000
END:STANDARD
BEGIN:DAYLIGHT
TZOFFSETFROM:+0100
TZOFFSETTO:+0200
TZNAME:CEST
DTSTART:20220327T010000
END:DAYLIGHT
BEGIN:STANDARD
TZOFFSETFROM:+0200
TZOFFSETTO:+0100
TZNAME:CET
DTSTART:20221030T010000
END:STANDARD
END:VTIMEZONE
BEGIN:VEVENT
DTSTART;TZID=Europe/Berlin:20210622T000000
DTEND;TZID=Europe/Berlin:20210622T000000
DTSTAMP:20260423T182753
CREATED:20210622T213609Z
LAST-MODIFIED:20210628T204041Z
UID:2780-1624320000-1624320000@shw-clan.de
SUMMARY:Clanratsitzung
DESCRIPTION:
URL:https://shw-clan.de/event/clanratsitzung/
ATTACH;FMTTYPE=image/jpeg:https://shw-clan.de/wp-content/uploads/2021/04/Layer-Clanrat.jpg
END:VEVENT
BEGIN:VEVENT
DTSTART;TZID=Europe/Berlin:20210622T000000
DTEND;TZID=Europe/Berlin:20210622T000000
DTSTAMP:20260423T182753
CREATED:20210628T204054Z
LAST-MODIFIED:20210628T204813Z
UID:2812-1624320000-1624320000@shw-clan.de
SUMMARY:Battlefield Zockabend
DESCRIPTION:Unser Battlefield-Zockabend findet jeden Dienstag ab 19.30 Uhr statt.\nWir spielen jede Woche abwechselnd Battlefield 4 und 5\nTreffpunkt ist wie immer unser Teamspeak (BF-Channel).
URL:https://shw-clan.de/event/battlefield-zockabend/
ATTACH;FMTTYPE=image/jpeg:https://shw-clan.de/wp-content/uploads/2021/01/Layer-BF-4-5-Zockabend.jpg
END:VEVENT
BEGIN:VEVENT
DTSTART;TZID=Europe/Berlin:20210622T000000
DTEND;TZID=Europe/Berlin:20210622T000000
DTSTAMP:20260423T182753
CREATED:20210628T204328Z
LAST-MODIFIED:20210628T212740Z
UID:2838-1624320000-1624320000@shw-clan.de
SUMMARY:Herzlichen Glückwunsch -=SHW-Zimbo=-
DESCRIPTION:Der -=SHW-Clan=- wünscht dir für deinen weiteren Lebensweg alles Gute zum Geburtstag.\nDein -=SHW-Clan=-
URL:https://shw-clan.de/event/herzlichen-glueckwunsch-shw-zimbo/
CATEGORIES:Geburtstag
ATTACH;FMTTYPE=image/jpeg:https://shw-clan.de/wp-content/uploads/2021/06/Geburtstag-1Qdnrp.tmp_.jpg
END:VEVENT
BEGIN:VEVENT
DTSTART;TZID=Europe/Berlin:20210623T000000
DTEND;TZID=Europe/Berlin:20210623T000000
DTSTAMP:20260423T182753
CREATED:20210628T204053Z
LAST-MODIFIED:20210628T204814Z
UID:2811-1624406400-1624406400@shw-clan.de
SUMMARY:CS:GO Zockabend
DESCRIPTION:Unsere CS-Zockabende finden jeden Mittwoch und Sonntag-Abend ab 20 Uhr statt.Treffpunkt ist wie immer unser Teamspeak (CS-Channel). \nUnsere CS:GO-Server: \nCS:GO: [SHW] Comp.| NO AWP | LOW by www.shw-clan.de 1IP:   85.25.20.27:27015 \nCS:GO: [SHW] by www.shw-clan.de 3 (DangerZone/Blacksite)IP: 85.25.20.27:27021 \nCS:GO: [SHW] by www.shw-clan.de 5 oder Turnier-ServerIP:    85.25.20.27:27030
URL:https://shw-clan.de/event/csgo-zockabend/
ATTACH;FMTTYPE=image/jpeg:https://shw-clan.de/wp-content/uploads/2021/03/Layer-CSGO-Zockabend.jpg
END:VEVENT
BEGIN:VEVENT
DTSTART;TZID=Europe/Berlin:20210624T000000
DTEND;TZID=Europe/Berlin:20210624T000000
DTSTAMP:20260423T182753
CREATED:20210628T204330Z
LAST-MODIFIED:20210628T212740Z
UID:2841-1624492800-1624492800@shw-clan.de
SUMMARY:Herzlichen Glückwunsch -=SHW-Silvadore=-
DESCRIPTION:Der -=SHW-Clan=- wünscht dir für deinen weiteren Lebensweg alles Gute zum Geburtstag.\nDein -=SHW-Clan=-
URL:https://shw-clan.de/event/herzlichen-glueckwunsch-shw-silvadore/
CATEGORIES:Geburtstag
ATTACH;FMTTYPE=image/jpeg:https://shw-clan.de/wp-content/uploads/2021/06/Geburtstag-1Qdnrp.tmp_.jpg
END:VEVENT
END:VCALENDAR