BEGIN:VCALENDAR
VERSION:2.0
PRODID:-//-=SHW=- Multigaming seit 2000 - ECPv6.15.11//NONSGML v1.0//EN
CALSCALE:GREGORIAN
METHOD:PUBLISH
X-WR-CALNAME:-=SHW=- Multigaming seit 2000
X-ORIGINAL-URL:https://shw-clan.de
X-WR-CALDESC:Veranstaltungen für -=SHW=- Multigaming seit 2000
REFRESH-INTERVAL;VALUE=DURATION:PT1H
X-Robots-Tag:noindex
X-PUBLISHED-TTL:PT1H
BEGIN:VTIMEZONE
TZID:Europe/Berlin
BEGIN:DAYLIGHT
TZOFFSETFROM:+0100
TZOFFSETTO:+0200
TZNAME:CEST
DTSTART:20250330T010000
END:DAYLIGHT
BEGIN:STANDARD
TZOFFSETFROM:+0200
TZOFFSETTO:+0100
TZNAME:CET
DTSTART:20251026T010000
END:STANDARD
BEGIN:DAYLIGHT
TZOFFSETFROM:+0100
TZOFFSETTO:+0200
TZNAME:CEST
DTSTART:20260329T010000
END:DAYLIGHT
BEGIN:STANDARD
TZOFFSETFROM:+0200
TZOFFSETTO:+0100
TZNAME:CET
DTSTART:20261025T010000
END:STANDARD
BEGIN:DAYLIGHT
TZOFFSETFROM:+0100
TZOFFSETTO:+0200
TZNAME:CEST
DTSTART:20270328T010000
END:DAYLIGHT
BEGIN:STANDARD
TZOFFSETFROM:+0200
TZOFFSETTO:+0100
TZNAME:CET
DTSTART:20271031T010000
END:STANDARD
BEGIN:DAYLIGHT
TZOFFSETFROM:+0100
TZOFFSETTO:+0200
TZNAME:CEST
DTSTART:20280326T010000
END:DAYLIGHT
BEGIN:STANDARD
TZOFFSETFROM:+0200
TZOFFSETTO:+0100
TZNAME:CET
DTSTART:20281029T010000
END:STANDARD
END:VTIMEZONE
BEGIN:VEVENT
DTSTART;TZID=Europe/Berlin:20260604T150000
DTEND;TZID=Europe/Berlin:20260607T120000
DTSTAMP:20260420T044012
CREATED:20251108T185304Z
LAST-MODIFIED:20251108T185304Z
UID:5797-1780585200-1780833600@shw-clan.de
SUMMARY:BieberLAN 50
DESCRIPTION:
URL:https://shw-clan.de/event/bieberlan-50/
LOCATION:Eissporthalle Frankfurt\, Am Bornheimer Hang 4\, Frankfurt am Main\, Hessen\, 60386\, Germany
CATEGORIES:LAN-Partys
ATTACH;FMTTYPE=image/jpeg:https://shw-clan.de/wp-content/uploads/2022/09/LAN.jpg
END:VEVENT
BEGIN:VEVENT
DTSTART;VALUE=DATE:20270518
DTEND;VALUE=DATE:20270524
DTSTAMP:20260420T044012
CREATED:20260414T194108Z
LAST-MODIFIED:20260414T194551Z
UID:5946-1810598400-1811116799@shw-clan.de
SUMMARY:Clantreffen in Melle
DESCRIPTION:Noch als Platzhalter\, Details folgen. \nTeilnehmer: 1Zum Registrieren musst du dich einloggen! \n				Benutzername oder E-Mail-Adresse\n				\n			 \n				Passwort\n				\n			  Angemeldet bleiben \n				\n				\n			 \nTeilnehmerliste-=SHW-FotziBaer=- Oliver
URL:https://shw-clan.de/event/clantreffen-in-melle/
CATEGORIES:Treffen
ATTACH;FMTTYPE=image/jpeg:https://shw-clan.de/wp-content/uploads/2023/12/Layer-Event.jpg
END:VEVENT
END:VCALENDAR