BEGIN:VCALENDAR
VERSION:2.0
PRODID:-//-=SHW=- Multigaming seit 2000 - ECPv6.15.11//NONSGML v1.0//EN
CALSCALE:GREGORIAN
METHOD:PUBLISH
X-WR-CALNAME:-=SHW=- Multigaming seit 2000
X-ORIGINAL-URL:https://shw-clan.de
X-WR-CALDESC:Veranstaltungen für -=SHW=- Multigaming seit 2000
REFRESH-INTERVAL;VALUE=DURATION:PT1H
X-Robots-Tag:noindex
X-PUBLISHED-TTL:PT1H
BEGIN:VTIMEZONE
TZID:Europe/Berlin
BEGIN:DAYLIGHT
TZOFFSETFROM:+0100
TZOFFSETTO:+0200
TZNAME:CEST
DTSTART:20240331T010000
END:DAYLIGHT
BEGIN:STANDARD
TZOFFSETFROM:+0200
TZOFFSETTO:+0100
TZNAME:CET
DTSTART:20241027T010000
END:STANDARD
BEGIN:DAYLIGHT
TZOFFSETFROM:+0100
TZOFFSETTO:+0200
TZNAME:CEST
DTSTART:20250330T010000
END:DAYLIGHT
BEGIN:STANDARD
TZOFFSETFROM:+0200
TZOFFSETTO:+0100
TZNAME:CET
DTSTART:20251026T010000
END:STANDARD
BEGIN:DAYLIGHT
TZOFFSETFROM:+0100
TZOFFSETTO:+0200
TZNAME:CEST
DTSTART:20260329T010000
END:DAYLIGHT
BEGIN:STANDARD
TZOFFSETFROM:+0200
TZOFFSETTO:+0100
TZNAME:CET
DTSTART:20261025T010000
END:STANDARD
END:VTIMEZONE
BEGIN:VEVENT
DTSTART;TZID=Europe/Berlin:20250728T120000
DTEND;TZID=Europe/Berlin:20250803T120000
DTSTAMP:20260420T223323
CREATED:20240918T230944Z
LAST-MODIFIED:20240928T231451Z
UID:5419-1753704000-1754222400@shw-clan.de
SUMMARY:Jubiläums-Clantreffen 2025
DESCRIPTION:Das Clantreffen 2025 findet vom 28.07.-03.08.2025 in Baden-Württemberg am Buchseehof statt und wird von -=SHW-Conan=-\, der Clanleitung und dem Clanrat ausgerichtet. Eventuell ist eine Anreise auch schon ab dem 25.07.2025 möglich (Anfrage an den Campingplatz ist gestellt). Der offizielle Teil\, also das Rahmenprogramm\, wird sich wie in den vergangenen Jahren auf das Wochenende (01.08.-03.08.2025) konzentrieren. \nGenauere Informationen bzw. Umfrage folgen später\, hierzu schaut bitte regelmäßig auf die Website und ins Forum.
URL:https://shw-clan.de/event/jubilaeums-clantreffen-2025/
LOCATION:Campingplatz Buchseehof\, Buchsee 1\, Fronreute\, Baden-Württemberg\, 88273\, Germany
CATEGORIES:Treffen
ATTACH;FMTTYPE=image/jpeg:https://shw-clan.de/wp-content/uploads/2021/03/Clantreffen-1.jpg
END:VEVENT
END:VCALENDAR