BEGIN:VCALENDAR
VERSION:2.0
PRODID:-//-=SHW=- Multigaming seit 2000 - ECPv6.15.11//NONSGML v1.0//EN
CALSCALE:GREGORIAN
METHOD:PUBLISH
X-ORIGINAL-URL:https://shw-clan.de
X-WR-CALDESC:Veranstaltungen für -=SHW=- Multigaming seit 2000
REFRESH-INTERVAL;VALUE=DURATION:PT1H
X-Robots-Tag:noindex
X-PUBLISHED-TTL:PT1H
BEGIN:VTIMEZONE
TZID:Europe/Berlin
BEGIN:DAYLIGHT
TZOFFSETFROM:+0100
TZOFFSETTO:+0200
TZNAME:CEST
DTSTART:20220327T010000
END:DAYLIGHT
BEGIN:STANDARD
TZOFFSETFROM:+0200
TZOFFSETTO:+0100
TZNAME:CET
DTSTART:20221030T010000
END:STANDARD
BEGIN:DAYLIGHT
TZOFFSETFROM:+0100
TZOFFSETTO:+0200
TZNAME:CEST
DTSTART:20230326T010000
END:DAYLIGHT
BEGIN:STANDARD
TZOFFSETFROM:+0200
TZOFFSETTO:+0100
TZNAME:CET
DTSTART:20231029T010000
END:STANDARD
BEGIN:DAYLIGHT
TZOFFSETFROM:+0100
TZOFFSETTO:+0200
TZNAME:CEST
DTSTART:20240331T010000
END:DAYLIGHT
BEGIN:STANDARD
TZOFFSETFROM:+0200
TZOFFSETTO:+0100
TZNAME:CET
DTSTART:20241027T010000
END:STANDARD
END:VTIMEZONE
BEGIN:VEVENT
DTSTART;TZID=Europe/Berlin:20231110T180000
DTEND;TZID=Europe/Berlin:20231112T120000
DTSTAMP:20260421T212343
CREATED:20230728T221323Z
LAST-MODIFIED:20230729T225750Z
UID:4690-1699639200-1699790400@shw-clan.de
SUMMARY:Luxuslan #14
DESCRIPTION:Anzahl der Teilnehmer:\n72 Teilnehmer\n\n\nBeginn:\nFriday\, 10. November 2023 18:00\n\n\nEnde:\nSunday\, 12. November 2023 12:00\n\n\nAnmeldebeginn:\nMonday\, 24. July 2023 00:00\n\n\nSitzplatzreservierung:\nMonday\, 24. July 2023 01:00\n\n\nEintrittspreis:\n15 EUR\n\n\nÜberweisung:\nNur für Benutzer sichtbar\n\n\nMindestalter:\n18 Jahre\n\n\n\n  \nWer sich für die LAN interessiert und anmelden möchte\, darf sich gerne bei -=SHW-FotziBaer=- für ein Passwort melden. \n>> LINK zur HOMEPAGE<< \n  \nTeilnehmer: 7Zum Registrieren musst du dich einloggen! \n				Benutzername oder E-Mail-Adresse\n				\n			 \n				Passwort\n				\n			  Angemeldet bleiben
URL:https://shw-clan.de/event/luxuslan-14/
LOCATION:Gräfsbachhalle\, Goethestraße 1\, Hargersheim\, Rheinland-Pfalz\, 55595\, Germany
CATEGORIES:LAN-Partys
ATTACH;FMTTYPE=image/jpeg:https://shw-clan.de/wp-content/uploads/2020/12/Layer-Lanparty.jpg
END:VEVENT
END:VCALENDAR