BEGIN:VCALENDAR
VERSION:2.0
PRODID:-//-=SHW=- Multigaming seit 2000 - ECPv6.15.11//NONSGML v1.0//EN
CALSCALE:GREGORIAN
METHOD:PUBLISH
X-WR-CALNAME:-=SHW=- Multigaming seit 2000
X-ORIGINAL-URL:https://shw-clan.de
X-WR-CALDESC:Veranstaltungen für -=SHW=- Multigaming seit 2000
REFRESH-INTERVAL;VALUE=DURATION:PT1H
X-Robots-Tag:noindex
X-PUBLISHED-TTL:PT1H
BEGIN:VTIMEZONE
TZID:Europe/Berlin
BEGIN:DAYLIGHT
TZOFFSETFROM:+0100
TZOFFSETTO:+0200
TZNAME:CEST
DTSTART:20220327T010000
END:DAYLIGHT
BEGIN:STANDARD
TZOFFSETFROM:+0200
TZOFFSETTO:+0100
TZNAME:CET
DTSTART:20221030T010000
END:STANDARD
BEGIN:DAYLIGHT
TZOFFSETFROM:+0100
TZOFFSETTO:+0200
TZNAME:CEST
DTSTART:20230326T010000
END:DAYLIGHT
BEGIN:STANDARD
TZOFFSETFROM:+0200
TZOFFSETTO:+0100
TZNAME:CET
DTSTART:20231029T010000
END:STANDARD
BEGIN:DAYLIGHT
TZOFFSETFROM:+0100
TZOFFSETTO:+0200
TZNAME:CEST
DTSTART:20240331T010000
END:DAYLIGHT
BEGIN:STANDARD
TZOFFSETFROM:+0200
TZOFFSETTO:+0100
TZNAME:CET
DTSTART:20241027T010000
END:STANDARD
END:VTIMEZONE
BEGIN:VEVENT
DTSTART;TZID=Europe/Berlin:20230505T160000
DTEND;TZID=Europe/Berlin:20230508T100000
DTSTAMP:20260422T080321
CREATED:20230423T180437Z
LAST-MODIFIED:20230428T201519Z
UID:4412-1683302400-1683540000@shw-clan.de
SUMMARY:LANresort 2023
DESCRIPTION:Die LAN-Party LANresort 2023 findet im allseits bekannten Center Parcs Bispinger Heide\, in der Nähe von Hamburg statt. Wir vernetzen für euch etwa 70 Bungalows\, in die ihr euch mit euren Freunden einmieten könnt. \nUrlaub und Spieltraining kommen auf der LANresort in Deutschlands bestem Ferienpark zusammen. Dazu organisieren wir für euch viele Side-Events – und ganz nebenbei findet in dem einen oder anderen Bungalow auch noch eine Party statt. \n  \nAuch wir sind auf der LANresort vertreten! \n  \nTeilnehmer: 12Anmeldungen sind für diese Veranstaltung geschlossen
URL:https://shw-clan.de/event/lanresort-2023/
LOCATION:Center Parcs Bispingen\, Töpinger Straße 69\, Bispingen\, Niedersachsen\, 29646\, Germany
CATEGORIES:LAN-Partys
ATTACH;FMTTYPE=image/jpeg:https://shw-clan.de/wp-content/uploads/2022/09/LAN.jpg
END:VEVENT
END:VCALENDAR